BEGIN:VCALENDAR
VERSION:2.0
PRODID:-//Il portale della regolarità sport - ECPv6.14.0//NONSGML v1.0//EN
CALSCALE:GREGORIAN
METHOD:PUBLISH
X-WR-CALNAME:Il portale della regolarità sport
X-ORIGINAL-URL:https://regolaritasport.it
X-WR-CALDESC:Eventi per Il portale della regolarità sport
REFRESH-INTERVAL;VALUE=DURATION:PT1H
X-Robots-Tag:noindex
X-PUBLISHED-TTL:PT1H
BEGIN:VTIMEZONE
TZID:Europe/Rome
BEGIN:DAYLIGHT
TZOFFSETFROM:+0100
TZOFFSETTO:+0200
TZNAME:CEST
DTSTART:20200329T010000
END:DAYLIGHT
BEGIN:STANDARD
TZOFFSETFROM:+0200
TZOFFSETTO:+0100
TZNAME:CET
DTSTART:20201025T010000
END:STANDARD
BEGIN:DAYLIGHT
TZOFFSETFROM:+0100
TZOFFSETTO:+0200
TZNAME:CEST
DTSTART:20210328T010000
END:DAYLIGHT
BEGIN:STANDARD
TZOFFSETFROM:+0200
TZOFFSETTO:+0100
TZNAME:CET
DTSTART:20211031T010000
END:STANDARD
BEGIN:DAYLIGHT
TZOFFSETFROM:+0100
TZOFFSETTO:+0200
TZNAME:CEST
DTSTART:20220327T010000
END:DAYLIGHT
BEGIN:STANDARD
TZOFFSETFROM:+0200
TZOFFSETTO:+0100
TZNAME:CET
DTSTART:20221030T010000
END:STANDARD
END:VTIMEZONE
BEGIN:VEVENT
DTSTART;VALUE=DATE:20220303
DTEND;VALUE=DATE:20220305
DTSTAMP:20260424T052547
CREATED:20201218T210516Z
LAST-MODIFIED:20230206T094825Z
UID:910-1646265600-1646438399@regolaritasport.it
SUMMARY:Bardolino Classic
DESCRIPTION:
URL:https://regolaritasport.it/event/bardolino-classic/
CATEGORIES:Veneto
END:VEVENT
BEGIN:VEVENT
DTSTART;VALUE=DATE:20210911
DTEND;VALUE=DATE:20210913
DTSTAMP:20260424T052547
CREATED:20201218T211458Z
LAST-MODIFIED:20201218T211458Z
UID:919-1631318400-1631491199@regolaritasport.it
SUMMARY:Terre del Monte Acuto
DESCRIPTION:
URL:https://regolaritasport.it/event/terre-del-monte-acuto/
CATEGORIES:Sardegna
END:VEVENT
BEGIN:VEVENT
DTSTART;VALUE=DATE:20210702
DTEND;VALUE=DATE:20210705
DTSTAMP:20260424T052547
CREATED:20201218T210808Z
LAST-MODIFIED:20201218T210808Z
UID:913-1625184000-1625443199@regolaritasport.it
SUMMARY:50° Rally 4 Regioni Reg. Sport
DESCRIPTION:
URL:https://regolaritasport.it/event/50-rally-4-regioni-reg-sport/
CATEGORIES:Lombardia
END:VEVENT
BEGIN:VEVENT
DTSTART;VALUE=DATE:20210611
DTEND;VALUE=DATE:20210612
DTSTAMP:20260424T052547
CREATED:20220125T104642Z
LAST-MODIFIED:20220426T125513Z
UID:1162-1623369600-1623455999@regolaritasport.it
SUMMARY:1° COPPA VALTELLINA SPORT
DESCRIPTION:
URL:https://regolaritasport.it/event/1-coppa-valtellina-sport/
CATEGORIES:Lombardia
END:VEVENT
BEGIN:VEVENT
DTSTART;VALUE=DATE:20210604
DTEND;VALUE=DATE:20210605
DTSTAMP:20260424T052547
CREATED:20220125T104550Z
LAST-MODIFIED:20220426T125438Z
UID:1159-1622764800-1622851199@regolaritasport.it
SUMMARY:1A Reg. Storica delle Valli Ossolane
DESCRIPTION:
URL:https://regolaritasport.it/event/1a-reg-storica-delle-valli-ossolane/
CATEGORIES:Piemonte
END:VEVENT
BEGIN:VEVENT
DTSTART;VALUE=DATE:20201127
DTEND;VALUE=DATE:20201129
DTSTAMP:20260424T052547
CREATED:20190313T202900Z
LAST-MODIFIED:20211120T131529Z
UID:21-1606435200-1606607999@regolaritasport.it
SUMMARY:5° TUSCAN CLASSIC
DESCRIPTION:
URL:https://regolaritasport.it/event/5-tuscan-classic/
CATEGORIES:Toscana
END:VEVENT
BEGIN:VEVENT
DTSTART;VALUE=DATE:20200619
DTEND;VALUE=DATE:20200621
DTSTAMP:20260424T052547
CREATED:20190313T204047Z
LAST-MODIFIED:20210520T163237Z
UID:43-1592524800-1592697599@regolaritasport.it
SUMMARY:5° Raab Classic
DESCRIPTION:
URL:https://regolaritasport.it/event/5-raab-classic/
CATEGORIES:Emilia Romagna
END:VEVENT
END:VCALENDAR