BEGIN:VCALENDAR
VERSION:2.0
PRODID:-//Il portale della regolarità sport - ECPv6.14.0//NONSGML v1.0//EN
CALSCALE:GREGORIAN
METHOD:PUBLISH
X-ORIGINAL-URL:https://regolaritasport.it
X-WR-CALDESC:Eventi per Il portale della regolarità sport
REFRESH-INTERVAL;VALUE=DURATION:PT1H
X-Robots-Tag:noindex
X-PUBLISHED-TTL:PT1H
BEGIN:VTIMEZONE
TZID:Europe/Rome
BEGIN:DAYLIGHT
TZOFFSETFROM:+0100
TZOFFSETTO:+0200
TZNAME:CEST
DTSTART:20220327T010000
END:DAYLIGHT
BEGIN:STANDARD
TZOFFSETFROM:+0200
TZOFFSETTO:+0100
TZNAME:CET
DTSTART:20221030T010000
END:STANDARD
BEGIN:DAYLIGHT
TZOFFSETFROM:+0100
TZOFFSETTO:+0200
TZNAME:CEST
DTSTART:20230326T010000
END:DAYLIGHT
BEGIN:STANDARD
TZOFFSETFROM:+0200
TZOFFSETTO:+0100
TZNAME:CET
DTSTART:20231029T010000
END:STANDARD
BEGIN:DAYLIGHT
TZOFFSETFROM:+0100
TZOFFSETTO:+0200
TZNAME:CEST
DTSTART:20240331T010000
END:DAYLIGHT
BEGIN:STANDARD
TZOFFSETFROM:+0200
TZOFFSETTO:+0100
TZNAME:CET
DTSTART:20241027T010000
END:STANDARD
END:VTIMEZONE
BEGIN:VEVENT
DTSTART;VALUE=DATE:20240531
DTEND;VALUE=DATE:20240601
DTSTAMP:20260424T013035
CREATED:20190313T204812Z
LAST-MODIFIED:20240107T012942Z
UID:64-1717113600-1717199999@regolaritasport.it
SUMMARY:VALSUGANA CLASSIC
DESCRIPTION:
URL:https://regolaritasport.it/event/11-valsugana-classic/
CATEGORIES:Trentino Alto Adige
END:VEVENT
BEGIN:VEVENT
DTSTART;VALUE=DATE:20240524
DTEND;VALUE=DATE:20240525
DTSTAMP:20260424T013035
CREATED:20240107T013345Z
LAST-MODIFIED:20240107T013345Z
UID:1459-1716508800-1716595199@regolaritasport.it
SUMMARY:SALENTO HISTORIC REGULARITY RALLY
DESCRIPTION:
URL:https://regolaritasport.it/event/salento-historic-regularity-rally/
CATEGORIES:Puglia
END:VEVENT
BEGIN:VEVENT
DTSTART;VALUE=DATE:20240518
DTEND;VALUE=DATE:20240519
DTSTAMP:20260424T013035
CREATED:20220125T104941Z
LAST-MODIFIED:20240107T012817Z
UID:1168-1715990400-1716076799@regolaritasport.it
SUMMARY:RALLY AUTOSTORICHE DI REGOLARITA' VALLI CUNEESI
DESCRIPTION:
URL:https://regolaritasport.it/event/rally-storico-del-cuneese/
CATEGORIES:Piemonte
END:VEVENT
BEGIN:VEVENT
DTSTART;VALUE=DATE:20240509
DTEND;VALUE=DATE:20240510
DTSTAMP:20260424T013035
CREATED:20230126T171846Z
LAST-MODIFIED:20240107T012121Z
UID:1365-1715212800-1715299199@regolaritasport.it
SUMMARY:TARGA FLORIO REGULARITY RALLY
DESCRIPTION:
URL:https://regolaritasport.it/event/1-targa-florio-regolairta-sport/
LOCATION:Palermo
CATEGORIES:Sicilia
END:VEVENT
BEGIN:VEVENT
DTSTART;VALUE=DATE:20240419
DTEND;VALUE=DATE:20240420
DTSTAMP:20260424T013035
CREATED:20191017T122137Z
LAST-MODIFIED:20240106T102519Z
UID:473-1713484800-1713571199@regolaritasport.it
SUMMARY:7° RALLY AS DI REGOLARITA' COSTA SMERALDA
DESCRIPTION:
URL:https://regolaritasport.it/event/5-rally-storico-costa-smeralda/
CATEGORIES:Sardegna
END:VEVENT
BEGIN:VEVENT
DTSTART;VALUE=DATE:20240322
DTEND;VALUE=DATE:20240323
DTSTAMP:20260424T013035
CREATED:20190313T204618Z
LAST-MODIFIED:20240106T102411Z
UID:58-1711065600-1711151999@regolaritasport.it
SUMMARY:15° CAMPAGNOLO HISTORIC
DESCRIPTION:
URL:https://regolaritasport.it/event/campagnolo-historic/
CATEGORIES:Veneto
END:VEVENT
BEGIN:VEVENT
DTSTART;VALUE=DATE:20240321
DTEND;VALUE=DATE:20240322
DTSTAMP:20260424T013035
CREATED:20240106T102259Z
LAST-MODIFIED:20240106T102259Z
UID:1443-1710979200-1711065599@regolaritasport.it
SUMMARY:III COPPA LIBURNA HISTORIC REGULARITY RALLY
DESCRIPTION:
URL:https://regolaritasport.it/event/iii-coppa-liburna-historic-regularity-rally/
CATEGORIES:Toscana
END:VEVENT
BEGIN:VEVENT
DTSTART;VALUE=DATE:20240316
DTEND;VALUE=DATE:20240317
DTSTAMP:20260424T013035
CREATED:20240106T102141Z
LAST-MODIFIED:20240106T102141Z
UID:1440-1710547200-1710633599@regolaritasport.it
SUMMARY:AUTOGIRO DEI LAGHI PONTINI
DESCRIPTION:
URL:https://regolaritasport.it/event/autogiro-dei-laghi-pontini/
CATEGORIES:Lazio
END:VEVENT
BEGIN:VEVENT
DTSTART;VALUE=DATE:20240308
DTEND;VALUE=DATE:20240309
DTSTAMP:20260424T013035
CREATED:20220125T105034Z
LAST-MODIFIED:20240106T101224Z
UID:1171-1709856000-1709942399@regolaritasport.it
SUMMARY:11° DUE VALLI CLASSIC
DESCRIPTION:
URL:https://regolaritasport.it/event/10-due-valli-classic/
CATEGORIES:Veneto
END:VEVENT
BEGIN:VEVENT
DTSTART;VALUE=DATE:20240301
DTEND;VALUE=DATE:20240302
DTSTAMP:20260424T013035
CREATED:20200105T133633Z
LAST-MODIFIED:20240106T101639Z
UID:607-1709251200-1709337599@regolaritasport.it
SUMMARY:4 RIEVOCAZIONE STORICA RALLY ACI VARESE
DESCRIPTION:
URL:https://regolaritasport.it/event/rievocazione-storica-rally-aci-varese/
CATEGORIES:Lombardia
END:VEVENT
BEGIN:VEVENT
DTSTART;VALUE=DATE:20240217
DTEND;VALUE=DATE:20240218
DTSTAMP:20260424T013035
CREATED:20240106T100510Z
LAST-MODIFIED:20240106T100510Z
UID:1430-1708128000-1708214399@regolaritasport.it
SUMMARY:COPPA ATTILIO BETTEGA 2024
DESCRIPTION:
URL:https://regolaritasport.it/event/coppa-attilio-bettega-2024/
CATEGORIES:Veneto
END:VEVENT
BEGIN:VEVENT
DTSTART;VALUE=DATE:20231110
DTEND;VALUE=DATE:20231112
DTSTAMP:20260424T013035
CREATED:20210520T163528Z
LAST-MODIFIED:20230126T180208Z
UID:1001-1699574400-1699747199@regolaritasport.it
SUMMARY:3° RALLY STORICO DEL BRUNELLO
DESCRIPTION:
URL:https://regolaritasport.it/event/rally-storico-del-brunello/
CATEGORIES:Toscana
END:VEVENT
BEGIN:VEVENT
DTSTART;VALUE=DATE:20231110
DTEND;VALUE=DATE:20231112
DTSTAMP:20260424T013035
CREATED:20190313T205134Z
LAST-MODIFIED:20230126T180105Z
UID:73-1699574400-1699747199@regolaritasport.it
SUMMARY:13° Lessinia Sport
DESCRIPTION:
URL:https://regolaritasport.it/event/lessinia-sport/
CATEGORIES:Veneto
END:VEVENT
BEGIN:VEVENT
DTSTART;VALUE=DATE:20231006
DTEND;VALUE=DATE:20231008
DTSTAMP:20260424T013035
CREATED:20230126T175936Z
LAST-MODIFIED:20230126T175936Z
UID:1391-1696550400-1696723199@regolaritasport.it
SUMMARY:1° COPPA SANREMO REGOLAIRTA' SPORT
DESCRIPTION:
URL:https://regolaritasport.it/event/1-coppa-sanremo-regolairta-sport/
CATEGORIES:Liguria
END:VEVENT
BEGIN:VEVENT
DTSTART;VALUE=DATE:20230922
DTEND;VALUE=DATE:20230925
DTSTAMP:20260424T013035
CREATED:20220125T105211Z
LAST-MODIFIED:20230126T175741Z
UID:1175-1695340800-1695599999@regolaritasport.it
SUMMARY:2 TROFEO ACI COMO REGOLARITA SPORT
DESCRIPTION:
URL:https://regolaritasport.it/event/2-trofeo-aci-como/
CATEGORIES:Lombardia
END:VEVENT
BEGIN:VEVENT
DTSTART;VALUE=DATE:20230914
DTEND;VALUE=DATE:20230917
DTSTAMP:20260424T013035
CREATED:20190313T203716Z
LAST-MODIFIED:20230126T175647Z
UID:34-1694649600-1694908799@regolaritasport.it
SUMMARY:10° Historic Regularity Sport
DESCRIPTION:
URL:https://regolaritasport.it/event/10-historic-regularity-sport/
CATEGORIES:Toscana
END:VEVENT
BEGIN:VEVENT
DTSTART;VALUE=DATE:20230714
DTEND;VALUE=DATE:20230716
DTSTAMP:20260424T013035
CREATED:20201218T212521Z
LAST-MODIFIED:20230126T175200Z
UID:925-1689292800-1689465599@regolaritasport.it
SUMMARY:3° Rally Alpi Orientali Regularity
DESCRIPTION:
URL:https://regolaritasport.it/event/rally-alpi-orientali-regularity/
CATEGORIES:Friuli Venezia Giulia
END:VEVENT
BEGIN:VEVENT
DTSTART;VALUE=DATE:20230520
DTEND;VALUE=DATE:20230522
DTSTAMP:20260424T013035
CREATED:20200105T134152Z
LAST-MODIFIED:20230126T172142Z
UID:619-1684540800-1684713599@regolaritasport.it
SUMMARY:3° Reg. Sport Abeti
DESCRIPTION:
URL:https://regolaritasport.it/event/3-reg-abeti/
CATEGORIES:Toscana
END:VEVENT
BEGIN:VEVENT
DTSTART;VALUE=DATE:20230517
DTEND;VALUE=DATE:20230518
DTSTAMP:20260424T013035
CREATED:20200105T133932Z
LAST-MODIFIED:20240322T180656Z
UID:613-1684281600-1684367999@regolaritasport.it
SUMMARY:3° RALLY REGOLARITA' DELLA VALPOLICELLA
DESCRIPTION:
URL:https://regolaritasport.it/event/3-reg-sport-della-valpolicella/
CATEGORIES:Veneto
END:VEVENT
BEGIN:VEVENT
DTSTART;VALUE=DATE:20230513
DTEND;VALUE=DATE:20230515
DTSTAMP:20260424T013035
CREATED:20230126T171930Z
LAST-MODIFIED:20230126T171930Z
UID:1369-1683936000-1684108799@regolaritasport.it
SUMMARY:1 REGOLARITÀ SPORT DELLA VALLE INTELVI
DESCRIPTION:
URL:https://regolaritasport.it/event/1-regolarita-sport-della-valle-intelvi/
CATEGORIES:Lombardia
END:VEVENT
BEGIN:VEVENT
DTSTART;VALUE=DATE:20230513
DTEND;VALUE=DATE:20230515
DTSTAMP:20260424T013035
CREATED:20220928T161703Z
LAST-MODIFIED:20230126T172038Z
UID:1296-1683936000-1684108799@regolaritasport.it
SUMMARY:2 °Rally Internazionale Golfo dell'Asinara
DESCRIPTION:
URL:https://regolaritasport.it/event/rally-internazionale-golfo-dellasinara/
CATEGORIES:Sardegna
END:VEVENT
BEGIN:VEVENT
DTSTART;VALUE=DATE:20230429
DTEND;VALUE=DATE:20230501
DTSTAMP:20260424T013035
CREATED:20220125T104759Z
LAST-MODIFIED:20230126T171743Z
UID:1165-1682726400-1682899199@regolaritasport.it
SUMMARY:2° REGOLARITA' CITTA' DI PRATO
DESCRIPTION:
URL:https://regolaritasport.it/event/2-regolarita-citta-di-prato/
CATEGORIES:Toscana
END:VEVENT
BEGIN:VEVENT
DTSTART;VALUE=DATE:20230324
DTEND;VALUE=DATE:20230326
DTSTAMP:20260424T013035
CREATED:20230126T171333Z
LAST-MODIFIED:20230126T171333Z
UID:1360-1679616000-1679788799@regolaritasport.it
SUMMARY:1° BENACO REGOLARITA' SPORT
DESCRIPTION:
URL:https://regolaritasport.it/event/1-benaco-regolarita-sport/
CATEGORIES:Veneto
END:VEVENT
BEGIN:VEVENT
DTSTART;VALUE=DATE:20230311
DTEND;VALUE=DATE:20230313
DTSTAMP:20260424T013035
CREATED:20230126T170728Z
LAST-MODIFIED:20230206T094955Z
UID:1353-1678492800-1678665599@regolaritasport.it
SUMMARY:1° HISTORIC VALCHIAMPO
DESCRIPTION:
URL:https://regolaritasport.it/event/1-historic-valchiampo/
CATEGORIES:TreRegioni,Veneto
END:VEVENT
BEGIN:VEVENT
DTSTART;VALUE=DATE:20230303
DTEND;VALUE=DATE:20230305
DTSTAMP:20260424T013035
CREATED:20200704T231040Z
LAST-MODIFIED:20230126T171217Z
UID:742-1677801600-1677974399@regolaritasport.it
SUMMARY:10° REGOLARITA' SPORT VALLATE ARETINE
DESCRIPTION:
URL:https://regolaritasport.it/event/regolarita-sport-vallate-aretine/
CATEGORIES:Toscana,TreRegioni
END:VEVENT
BEGIN:VEVENT
DTSTART;VALUE=DATE:20220909
DTEND;VALUE=DATE:20220910
DTSTAMP:20260424T013035
CREATED:20200105T134250Z
LAST-MODIFIED:20220125T103124Z
UID:622-1662681600-1662767999@regolaritasport.it
SUMMARY:3° Reg. Sport Città Di Torino
DESCRIPTION:
URL:https://regolaritasport.it/event/2-reg-sport-citta-di-torino/
CATEGORIES:Piemonte
END:VEVENT
BEGIN:VEVENT
DTSTART;VALUE=DATE:20220826
DTEND;VALUE=DATE:20220827
DTSTAMP:20260424T013035
CREATED:20201218T211737Z
LAST-MODIFIED:20221228T083646Z
UID:922-1661472000-1661558399@regolaritasport.it
SUMMARY:2° Il Grappolo Storico Reg. Sport
DESCRIPTION:
URL:https://regolaritasport.it/event/1-il-grappolo-storico-reg-sport/
CATEGORIES:Piemonte
END:VEVENT
BEGIN:VEVENT
DTSTART;VALUE=DATE:20220806
DTEND;VALUE=DATE:20220807
DTSTAMP:20260424T013035
CREATED:20190313T203943Z
LAST-MODIFIED:20220125T102911Z
UID:40-1659744000-1659830399@regolaritasport.it
SUMMARY:4° Rally Classic Salsomaggiore Terme
DESCRIPTION:
URL:https://regolaritasport.it/event/3-rally-classic-salsomaggiore-terme/
CATEGORIES:Emilia Romagna
END:VEVENT
BEGIN:VEVENT
DTSTART;VALUE=DATE:20220728
DTEND;VALUE=DATE:20220730
DTSTAMP:20260424T013035
CREATED:20230126T175259Z
LAST-MODIFIED:20230206T094912Z
UID:1381-1658966400-1659139199@regolaritasport.it
SUMMARY:REGOLARITA' SPORT SCHIO
DESCRIPTION:
URL:https://regolaritasport.it/event/regolarita-sport-schio/
CATEGORIES:Veneto
END:VEVENT
BEGIN:VEVENT
DTSTART;VALUE=DATE:20220402
DTEND;VALUE=DATE:20220403
DTSTAMP:20260424T013035
CREATED:20200105T133734Z
LAST-MODIFIED:20220125T102218Z
UID:610-1648857600-1648943999@regolaritasport.it
SUMMARY:2° Regolarità Sport TEAM '971
DESCRIPTION:
URL:https://regolaritasport.it/event/1-regolarita-sport-team-971/
CATEGORIES:Piemonte
END:VEVENT
END:VCALENDAR